BEGIN:VCALENDAR
VERSION:2.0
PRODID:-//ECOCAMPING - ECPv6.15.16.1//NONSGML v1.0//EN
CALSCALE:GREGORIAN
METHOD:PUBLISH
X-ORIGINAL-URL:https://ecocamping.de
X-WR-CALDESC:Veranstaltungen für ECOCAMPING
REFRESH-INTERVAL;VALUE=DURATION:PT1H
X-Robots-Tag:noindex
X-PUBLISHED-TTL:PT1H
BEGIN:VTIMEZONE
TZID:Europe/Berlin
BEGIN:DAYLIGHT
TZOFFSETFROM:+0100
TZOFFSETTO:+0200
TZNAME:CEST
DTSTART:20250330T010000
END:DAYLIGHT
BEGIN:STANDARD
TZOFFSETFROM:+0200
TZOFFSETTO:+0100
TZNAME:CET
DTSTART:20251026T010000
END:STANDARD
BEGIN:DAYLIGHT
TZOFFSETFROM:+0100
TZOFFSETTO:+0200
TZNAME:CEST
DTSTART:20260329T010000
END:DAYLIGHT
BEGIN:STANDARD
TZOFFSETFROM:+0200
TZOFFSETTO:+0100
TZNAME:CET
DTSTART:20261025T010000
END:STANDARD
BEGIN:DAYLIGHT
TZOFFSETFROM:+0100
TZOFFSETTO:+0200
TZNAME:CEST
DTSTART:20270328T010000
END:DAYLIGHT
BEGIN:STANDARD
TZOFFSETFROM:+0200
TZOFFSETTO:+0100
TZNAME:CET
DTSTART:20271031T010000
END:STANDARD
END:VTIMEZONE
BEGIN:VEVENT
DTSTART;TZID=Europe/Berlin:20260420T080000
DTEND;TZID=Europe/Berlin:20260421T170000
DTSTAMP:20260421T131840
CREATED:20251212T130413Z
LAST-MODIFIED:20251212T130413Z
UID:15319-1776672000-1776790800@ecocamping.de
SUMMARY:Netzwerktreffen Süd im April auf der Hofgut Hopfenburg
DESCRIPTION:Die Terminabstimmung dazu läuft. Sobald dieser fix ist\, gibt es hier mehr Informationen dazu.
URL:https://ecocamping.de/termine/netzwerktreffen-sued-im-april-auf-der-hofgut-hopfenburg
LOCATION:Hofgut Hopfenburg\, Hopfenburg 12\, Münsingen\, Baden-Württemberg\, 72525
ATTACH;FMTTYPE=image/jpeg:https://ecocamping.de/wp-content/uploads/2025/12/Netzwerktreffen2026.jpg
END:VEVENT
END:VCALENDAR